BEGIN:VCALENDAR
VERSION:2.0
PRODID:-//Expedition Australia - ECPv5.0.2//NONSGML v1.0//EN
CALSCALE:GREGORIAN
METHOD:PUBLISH
X-WR-CALNAME:Expedition Australia
X-ORIGINAL-URL:https://www.expeditionaustralia.com.au
X-WR-CALDESC:Events for Expedition Australia
BEGIN:VTIMEZONE
TZID:Australia/Melbourne
BEGIN:STANDARD
TZOFFSETFROM:+1100
TZOFFSETTO:+1000
TZNAME:AEST
DTSTART:20200404T160000
END:STANDARD
BEGIN:DAYLIGHT
TZOFFSETFROM:+1000
TZOFFSETTO:+1100
TZNAME:AEDT
DTSTART:20201003T160000
END:DAYLIGHT
END:VTIMEZONE
BEGIN:VEVENT
DTSTART;VALUE=DATE:20200306
DTEND;VALUE=DATE:20200309
DTSTAMP:20200301T125959
CREATED:20190704T022139Z
LAST-MODIFIED:20191021T070459Z
UID:40930-1583452800-1583711999@www.expeditionaustralia.com.au
SUMMARY:Let’s Go Gold Coast Caravan & Outdoor Expo
DESCRIPTION:
URL:https://www.expeditionaustralia.com.au/show/lets-go-gold-coast-caravan-outdoor-expo/
LOCATION:Metricon Stadium\, Nerang Broadbeach Road\, Carrara\, QLD\, 4211\, Australia
CATEGORIES:QLD
END:VEVENT
BEGIN:VEVENT
DTSTART;VALUE=DATE:20200312
DTEND;VALUE=DATE:20200316
DTSTAMP:20200301T125959
CREATED:20191021T090435Z
LAST-MODIFIED:20200213T085527Z
UID:46477-1583971200-1584316799@www.expeditionaustralia.com.au
SUMMARY:Mornington Great Outdoor & 4X4 Expo
DESCRIPTION:
URL:https://www.expeditionaustralia.com.au/show/mornington-great-outdoor-4x4-expo/
LOCATION:Mornington Racecourse\, 320 Racecourse Road\, MORNINGTON\, VICTORIA\, 3931\, Australia
CATEGORIES:VIC
END:VEVENT
BEGIN:VEVENT
DTSTART;VALUE=DATE:20200318
DTEND;VALUE=DATE:20200323
DTSTAMP:20200301T125959
CREATED:20180207T023248Z
LAST-MODIFIED:20191021T075015Z
UID:35518-1584489600-1584921599@www.expeditionaustralia.com.au
SUMMARY:Perth Caravan and Camping Show
DESCRIPTION:
URL:https://www.expeditionaustralia.com.au/show/perth-caravan-and-camping-show/
LOCATION:Claremont Showground\, 1 Graylands Rd\, Claremont\, WA\, 6010\, Australia
CATEGORIES:WA
END:VEVENT
BEGIN:VEVENT
DTSTART;VALUE=DATE:20200327
DTEND;VALUE=DATE:20200330
DTSTAMP:20200301T125959
CREATED:20180207T003135Z
LAST-MODIFIED:20191021T075157Z
UID:35459-1585267200-1585526399@www.expeditionaustralia.com.au
SUMMARY:Albury-Wodonga Caravan Camping 4WD Fish & Boat Show
DESCRIPTION:
URL:https://www.expeditionaustralia.com.au/show/albury-wodonga-caravan-camping-4wd-fish-boat-show/
LOCATION:Albury Showground\, Fallon Street\, North Albury\, NSW\, 2640\, Australia
CATEGORIES:NSW
END:VEVENT
BEGIN:VEVENT
DTSTART;VALUE=DATE:20200327
DTEND;VALUE=DATE:20200330
DTSTAMP:20200301T125959
CREATED:20180207T020927Z
LAST-MODIFIED:20190704T021112Z
UID:35498-1585267200-1585526399@www.expeditionaustralia.com.au
SUMMARY:National 4X4 Outdoors Show - Brisbane
DESCRIPTION:
URL:https://www.expeditionaustralia.com.au/show/national-4x4-outdoors-show-brisbane/
LOCATION:Brisbane Showgrounds\, 600 Gregory Terrace\, Bowen Hills\, QLD\, 4006\, Australia
CATEGORIES:QLD
END:VEVENT
BEGIN:VEVENT
DTSTART;VALUE=DATE:20200403
DTEND;VALUE=DATE:20200406
DTSTAMP:20200301T125959
CREATED:20180207T025407Z
LAST-MODIFIED:20200213T090134Z
UID:35526-1585872000-1586131199@www.expeditionaustralia.com.au
SUMMARY:Gippsland Leisurefest Roadshow
DESCRIPTION:
URL:https://www.expeditionaustralia.com.au/show/gippsland-leisurefest-roadshow/
LOCATION:Kernot Hall\, 50-70 Princes Dr\, Morwell\, VIC\, 3840\, Australia
CATEGORIES:VIC
END:VEVENT
BEGIN:VEVENT
DTSTART;VALUE=DATE:20200417
DTEND;VALUE=DATE:20200420
DTSTAMP:20200301T125959
CREATED:20180206T235739Z
LAST-MODIFIED:20190704T021157Z
UID:35445-1587081600-1587340799@www.expeditionaustralia.com.au
SUMMARY:Ballarat Great Outdoor & 4X4 Expo
DESCRIPTION:
URL:https://www.expeditionaustralia.com.au/show/ballarat-great-outdoor-4x4-expo/
LOCATION:Ballarat Showgrounds\, Cnr Creswick Rd & Howitt St\, Wendouree\, VIC\, 3355\, Australia
CATEGORIES:VIC
END:VEVENT
BEGIN:VEVENT
DTSTART;VALUE=DATE:20200417
DTEND;VALUE=DATE:20200420
DTSTAMP:20200301T125959
CREATED:20180207T021951Z
LAST-MODIFIED:20191021T072148Z
UID:35506-1587081600-1587340799@www.expeditionaustralia.com.au
SUMMARY:South East Queensland Caravan\, Camping\, Boating and Fishing Expo
DESCRIPTION:
URL:https://www.expeditionaustralia.com.au/show/south-east-queensland-caravan-camping-boating-and-fishing-expo/
LOCATION:Nambour Showgrounds\, Showgrounds Road\, Nambour\, QLD\, 4560\, Australia
CATEGORIES:QLD
END:VEVENT
BEGIN:VEVENT
DTSTART;VALUE=DATE:20200428
DTEND;VALUE=DATE:20200504
DTSTAMP:20200301T130000
CREATED:20180207T013301Z
LAST-MODIFIED:20191021T075541Z
UID:35478-1588032000-1588550399@www.expeditionaustralia.com.au
SUMMARY:NSW  Caravan\,  Camping &  Holiday Supershow
DESCRIPTION:
URL:https://www.expeditionaustralia.com.au/show/nsw%e2%80%a8-caravan-%e2%80%a8camping-%e2%80%a8holiday-supershow/
LOCATION:Rosehill Racecourse\, James Ruse Dr\, Rosehill\, NSW\, 2142\, Australia
CATEGORIES:NSW
END:VEVENT
BEGIN:VEVENT
DTSTART;VALUE=DATE:20200515
DTEND;VALUE=DATE:20200518
DTSTAMP:20200301T130000
CREATED:20180207T030804Z
LAST-MODIFIED:20191021T080002Z
UID:35532-1589500800-1589759999@www.expeditionaustralia.com.au
SUMMARY:Cairns Expo
DESCRIPTION:
URL:https://www.expeditionaustralia.com.au/show/cairns-expo/
LOCATION:Cairns Showground\, 120 Mulgrave Rd\, Parramatta Park\, QLD\, 4870\, Australia
CATEGORIES:QLD
END:VEVENT
BEGIN:VEVENT
DTSTART;VALUE=DATE:20200522
DTEND;VALUE=DATE:20200525
DTSTAMP:20200301T130000
CREATED:20180207T022620Z
LAST-MODIFIED:20191021T080340Z
UID:35512-1590105600-1590364799@www.expeditionaustralia.com.au
SUMMARY:Mackay Expo
DESCRIPTION:
URL:https://www.expeditionaustralia.com.au/show/mackay-expo/
LOCATION:Mackay Showgrounds\, 24 Milton St\, Mackay\, QLD\, 4740\, Australia
CATEGORIES:QLD
END:VEVENT
BEGIN:VEVENT
DTSTART;VALUE=DATE:20200529
DTEND;VALUE=DATE:20200601
DTSTAMP:20200301T130000
CREATED:20180206T032357Z
LAST-MODIFIED:20191021T080205Z
UID:35422-1590710400-1590969599@www.expeditionaustralia.com.au
SUMMARY:Caravan\, Camping\, 4WD\, Fish & Boat Show - Hunter Valley
DESCRIPTION:
URL:https://www.expeditionaustralia.com.au/show/caravan-camping-4wd-fish-boat-show-hunter-valley/
LOCATION:Maitland Showgrounds\, Blomfield Street\, South Maitland\, NSW\, 2320\, Australia
END:VEVENT
BEGIN:VEVENT
DTSTART;VALUE=DATE:20200529
DTEND;VALUE=DATE:20200601
DTSTAMP:20200301T130000
CREATED:20180207T030504Z
LAST-MODIFIED:20191021T080528Z
UID:35530-1590710400-1590969599@www.expeditionaustralia.com.au
SUMMARY:Bendigo Leisurefest Roadshow
DESCRIPTION:
URL:https://www.expeditionaustralia.com.au/show/bendigo-leisurefest-roadshow/
LOCATION:Bendigo Showgrounds\, Holmes Road\, Bendigo\, VIC\, 3550\, Australia
CATEGORIES:VIC
END:VEVENT
BEGIN:VEVENT
DTSTART;VALUE=DATE:20200603
DTEND;VALUE=DATE:20200609
DTSTAMP:20200301T130000
CREATED:20180207T020324Z
LAST-MODIFIED:20191021T072448Z
UID:35495-1591142400-1591660799@www.expeditionaustralia.com.au
SUMMARY:Let’s Go Queensland Caravan & Camping Supershow
DESCRIPTION:
URL:https://www.expeditionaustralia.com.au/show/lets-go-queensland-caravan-camping-supershow/
LOCATION:Brisbane Showgrounds\, 600 Gregory Terrace\, Bowen Hills\, QLD\, 4006\, Australia
CATEGORIES:QLD
END:VEVENT
BEGIN:VEVENT
DTSTART;VALUE=DATE:20200620
DTEND;VALUE=DATE:20200622
DTSTAMP:20200301T130000
CREATED:20180207T023520Z
LAST-MODIFIED:20191021T080733Z
UID:35520-1592611200-1592783999@www.expeditionaustralia.com.au
SUMMARY:Darwin 4WD\, Boating & Camping Expo
DESCRIPTION:
URL:https://www.expeditionaustralia.com.au/show/darwin-4wd-boating-camping-expo/
LOCATION:Darwin Showgrounds\, 1 Tate Place\, Winnellie\, NT\, 0820\, Australia
CATEGORIES:NT
END:VEVENT
BEGIN:VEVENT
DTSTART;VALUE=DATE:20200828
DTEND;VALUE=DATE:20200831
DTSTAMP:20200301T130000
CREATED:20180207T022818Z
LAST-MODIFIED:20200213T091430Z
UID:35514-1598572800-1598831999@www.expeditionaustralia.com.au
SUMMARY:Townsville Expo
DESCRIPTION:
URL:https://www.expeditionaustralia.com.au/show/townsville-expo/
LOCATION:Reid Park\, Railway Estate\, QLD\, 4810\, Australia
CATEGORIES:QLD
END:VEVENT
BEGIN:VEVENT
DTSTART;VALUE=DATE:20200918
DTEND;VALUE=DATE:20200921
DTSTAMP:20200301T130000
CREATED:20180207T012913Z
LAST-MODIFIED:20191021T081205Z
UID:35476-1600387200-1600646399@www.expeditionaustralia.com.au
SUMMARY:Orana Caravan Camping 4WD Fish  & Boat Show
DESCRIPTION:
URL:https://www.expeditionaustralia.com.au/show/orana-caravan-camping-4wd-fish%e2%80%a8-boat-show/
LOCATION:Dubbo Showgrounds\, Wingewarra St\, Dubbo\, NSW\, 2830\, Australia
CATEGORIES:NSW
END:VEVENT
BEGIN:VEVENT
DTSTART;VALUE=DATE:20200918
DTEND;VALUE=DATE:20200921
DTSTAMP:20200301T130000
CREATED:20180207T021242Z
LAST-MODIFIED:20191021T083941Z
UID:35499-1600387200-1600646399@www.expeditionaustralia.com.au
SUMMARY:Cleveland Caravan\, Camping\, Boating & 4×4 Expo
DESCRIPTION:
URL:https://www.expeditionaustralia.com.au/show/cleveland-caravan-camping-boating-4x4-expo/
LOCATION:Cleveland Showgrounds\, Norm Price Park\, Smith Street\, Cleveland\, QLD\, 4163\, Australia
CATEGORIES:QLD
END:VEVENT
BEGIN:VEVENT
DTSTART;VALUE=DATE:20201001
DTEND;VALUE=DATE:20201005
DTSTAMP:20200301T130000
CREATED:20180206T235011Z
LAST-MODIFIED:20191021T084218Z
UID:35441-1601510400-1601855999@www.expeditionaustralia.com.au
SUMMARY:Melbourne Leisurefest
DESCRIPTION:
URL:https://www.expeditionaustralia.com.au/show/melbourne-leisurefest/
LOCATION:Sandown Racecourse\, 591-659 Princes Highway\, Springvale\, VIC\, 3171\, Australia
CATEGORIES:VIC
END:VEVENT
END:VCALENDAR